BEGIN:VCALENDAR
VERSION:2.0
PRODID:-//Eventos Zenia Boulevard//NONSGML v1.0//EN
CALSCALE:GREGORIAN
BEGIN:VEVENT
DTSTART:20260425T000000
DTEND:20260425T000000
SUMMARY:Degustación gratuita de caracoles en el CC Alcampo Mallorca
DESCRIPTION:Sábado 25 de abril a las 12:00 h
LOCATION:Zenia Boulevard
URL:https://zeniaboulevard.es/eventos
END:VEVENT
END:VCALENDAR
